BEGIN:VCALENDAR
VERSION:2.0
PRODID:-//Network in Vegas - ECPv6.15.11//NONSGML v1.0//EN
CALSCALE:GREGORIAN
METHOD:PUBLISH
X-WR-CALNAME:Network in Vegas
X-ORIGINAL-URL:https://networkinvegas.com
X-WR-CALDESC:Events for Network in Vegas
REFRESH-INTERVAL;VALUE=DURATION:PT1H
X-Robots-Tag:noindex
X-PUBLISHED-TTL:PT1H
BEGIN:VTIMEZONE
TZID:America/Los_Angeles
BEGIN:DAYLIGHT
TZOFFSETFROM:-0800
TZOFFSETTO:-0700
TZNAME:PDT
DTSTART:20250309T100000
END:DAYLIGHT
BEGIN:STANDARD
TZOFFSETFROM:-0700
TZOFFSETTO:-0800
TZNAME:PST
DTSTART:20251102T090000
END:STANDARD
BEGIN:DAYLIGHT
TZOFFSETFROM:-0800
TZOFFSETTO:-0700
TZNAME:PDT
DTSTART:20260308T100000
END:DAYLIGHT
BEGIN:STANDARD
TZOFFSETFROM:-0700
TZOFFSETTO:-0800
TZNAME:PST
DTSTART:20261101T090000
END:STANDARD
BEGIN:DAYLIGHT
TZOFFSETFROM:-0800
TZOFFSETTO:-0700
TZNAME:PDT
DTSTART:20270314T100000
END:DAYLIGHT
BEGIN:STANDARD
TZOFFSETFROM:-0700
TZOFFSETTO:-0800
TZNAME:PST
DTSTART:20271107T090000
END:STANDARD
END:VTIMEZONE
BEGIN:VEVENT
DTSTART;VALUE=DATE:20260424
DTEND;VALUE=DATE:20260427
DTSTAMP:20260425T070656
CREATED:20240218T004752Z
LAST-MODIFIED:20260216T222659Z
UID:89550-1776988800-1777247999@networkinvegas.com
SUMMARY:LVL UP Technology and Gaming Expo
DESCRIPTION:LVL UP EXPO is one of the top gaming/anime/comics conventions and is held annually in Las Vegas. The LVL Up Expo covers the various types of gaming including the most current technology and systems. It is jam-packed with tournaments\, interactive games\, giveaways and so much more. \nWe cover a lot of different events and conventions here in Las Vegas; LVL UP Expo is one of our favorites! When it comes to Fan CONS\, this is a can’t miss event and is by far one of the most anticipated of the year! \nLVL UP EXPO is a collaboration of esports\, anime\, comics\, and technology — all in one huge annual convention in Las Vegas. \nWith your badge to Lvl Up Expo\, you can look forward to an unforgettable experience that blends old school\, recent\, and future gaming with special guest performances\, exciting interactive events\, and challenging tournaments. \nCOSPLAY CONTESTS:\nIf you are into Cosplay\, LVL UP is the place to be! Check out some of the best cosplay and custom designs throughout the show and at the Cosplay contest which features everything from comedy skits to fighting demonstrations. \n \n \nGaming Tournaments\nCompete against world-class PC and Console gamers! Compete in Retro Tournaments  hosted by the Retro World Series. \n \nAfter Hour Events and Party List\nDance the night away at some of the hottest gaming after-parties with some of the most  entertaining people you will ever meet! \n \n  \n\n\n\n\n\n			 \n \n	 \n\n\n 
URL:https://networkinvegas.com/event/lvl-up-technology-and-gaming-expo/
LOCATION:Las Vegas Convention Center\, 3150 Paradise Rd.\, Las Vegas\, NV\, 89109\, United States
CATEGORIES:Trade Shows & Conventions
ATTACH;FMTTYPE=image/jpeg:https://networkinvegas.com/wp-content/uploads/lvlup-2.jpg
END:VEVENT
END:VCALENDAR